BEGIN:VCALENDAR
VERSION:2.0
PRODID:-//OKV - ECPv6.15.20//NONSGML v1.0//EN
CALSCALE:GREGORIAN
METHOD:PUBLISH
X-WR-CALNAME:OKV
X-ORIGINAL-URL:https://okv-lv12.de
X-WR-CALDESC:Veranstaltungen für OKV
REFRESH-INTERVAL;VALUE=DURATION:PT1H
X-Robots-Tag:noindex
X-PUBLISHED-TTL:PT1H
BEGIN:VTIMEZONE
TZID:Europe/Berlin
BEGIN:DAYLIGHT
TZOFFSETFROM:+0100
TZOFFSETTO:+0200
TZNAME:CEST
DTSTART:20240331T010000
END:DAYLIGHT
BEGIN:STANDARD
TZOFFSETFROM:+0200
TZOFFSETTO:+0100
TZNAME:CET
DTSTART:20241027T010000
END:STANDARD
BEGIN:DAYLIGHT
TZOFFSETFROM:+0100
TZOFFSETTO:+0200
TZNAME:CEST
DTSTART:20250330T010000
END:DAYLIGHT
BEGIN:STANDARD
TZOFFSETFROM:+0200
TZOFFSETTO:+0100
TZNAME:CET
DTSTART:20251026T010000
END:STANDARD
BEGIN:DAYLIGHT
TZOFFSETFROM:+0100
TZOFFSETTO:+0200
TZNAME:CEST
DTSTART:20260329T010000
END:DAYLIGHT
BEGIN:STANDARD
TZOFFSETFROM:+0200
TZOFFSETTO:+0100
TZNAME:CET
DTSTART:20261025T010000
END:STANDARD
END:VTIMEZONE
BEGIN:VEVENT
DTSTART;TZID=Europe/Berlin:20250914T090000
DTEND;TZID=Europe/Berlin:20250914T180000
DTSTAMP:20260420T215657
CREATED:20250602T175333Z
LAST-MODIFIED:20250602T175445Z
UID:1767-1757840400-1757872800@okv-lv12.de
SUMMARY:DKB-Sachkundeschulung 2025
DESCRIPTION:Landesverband 15 Kurhessen u. Waldeck e.V. \nSachkundeschulung 2025
URL:https://okv-lv12.de/event/dkb-sachkundeschulung-2025/
LOCATION:Hotel Stadt Baunatal\, Wilhelmshöher Str.5\, Baunatal-Altenritte\, 34225\, Germany
CATEGORIES:Termine
END:VEVENT
END:VCALENDAR