BEGIN:VCALENDAR
VERSION:2.0
PRODID:-//OKV - ECPv6.15.20//NONSGML v1.0//EN
CALSCALE:GREGORIAN
METHOD:PUBLISH
X-WR-CALNAME:OKV
X-ORIGINAL-URL:https://okv-lv12.de
X-WR-CALDESC:Veranstaltungen für OKV
REFRESH-INTERVAL;VALUE=DURATION:PT1H
X-Robots-Tag:noindex
X-PUBLISHED-TTL:PT1H
BEGIN:VTIMEZONE
TZID:Europe/Berlin
BEGIN:DAYLIGHT
TZOFFSETFROM:+0100
TZOFFSETTO:+0200
TZNAME:CEST
DTSTART:20240331T010000
END:DAYLIGHT
BEGIN:STANDARD
TZOFFSETFROM:+0200
TZOFFSETTO:+0100
TZNAME:CET
DTSTART:20241027T010000
END:STANDARD
BEGIN:DAYLIGHT
TZOFFSETFROM:+0100
TZOFFSETTO:+0200
TZNAME:CEST
DTSTART:20250330T010000
END:DAYLIGHT
BEGIN:STANDARD
TZOFFSETFROM:+0200
TZOFFSETTO:+0100
TZNAME:CET
DTSTART:20251026T010000
END:STANDARD
BEGIN:DAYLIGHT
TZOFFSETFROM:+0100
TZOFFSETTO:+0200
TZNAME:CEST
DTSTART:20260329T010000
END:DAYLIGHT
BEGIN:STANDARD
TZOFFSETFROM:+0200
TZOFFSETTO:+0100
TZNAME:CET
DTSTART:20261025T010000
END:STANDARD
END:VTIMEZONE
BEGIN:VEVENT
DTSTART;VALUE=DATE:20251025
DTEND;VALUE=DATE:20251027
DTSTAMP:20260420T202157
CREATED:20250930T171503Z
LAST-MODIFIED:20250930T175652Z
UID:1808-1761350400-1761523199@okv-lv12.de
SUMMARY:58. AZ Landesschau 2025
DESCRIPTION:58. AZ-Landesschau Hessen 2025
URL:https://okv-lv12.de/event/az-landesschau-2025/
LOCATION:Stadthalle Staufenberg\, Porstendorfer Straße 2\, Staufenberg\, 35460
CATEGORIES:Termine
END:VEVENT
END:VCALENDAR