BEGIN:VCALENDAR
VERSION:2.0
PRODID:-//OKV - ECPv6.15.20//NONSGML v1.0//EN
CALSCALE:GREGORIAN
METHOD:PUBLISH
X-WR-CALNAME:OKV
X-ORIGINAL-URL:https://okv-lv12.de
X-WR-CALDESC:Veranstaltungen für OKV
REFRESH-INTERVAL;VALUE=DURATION:PT1H
X-Robots-Tag:noindex
X-PUBLISHED-TTL:PT1H
BEGIN:VTIMEZONE
TZID:Europe/Berlin
BEGIN:DAYLIGHT
TZOFFSETFROM:+0100
TZOFFSETTO:+0200
TZNAME:CEST
DTSTART:20240331T010000
END:DAYLIGHT
BEGIN:STANDARD
TZOFFSETFROM:+0200
TZOFFSETTO:+0100
TZNAME:CET
DTSTART:20241027T010000
END:STANDARD
BEGIN:DAYLIGHT
TZOFFSETFROM:+0100
TZOFFSETTO:+0200
TZNAME:CEST
DTSTART:20250330T010000
END:DAYLIGHT
BEGIN:STANDARD
TZOFFSETFROM:+0200
TZOFFSETTO:+0100
TZNAME:CET
DTSTART:20251026T010000
END:STANDARD
BEGIN:DAYLIGHT
TZOFFSETFROM:+0100
TZOFFSETTO:+0200
TZNAME:CEST
DTSTART:20260329T010000
END:DAYLIGHT
BEGIN:STANDARD
TZOFFSETFROM:+0200
TZOFFSETTO:+0100
TZNAME:CET
DTSTART:20261025T010000
END:STANDARD
END:VTIMEZONE
BEGIN:VEVENT
DTSTART;VALUE=DATE:20251128
DTEND;VALUE=DATE:20251130
DTSTAMP:20260420T165547
CREATED:20250919T115311Z
LAST-MODIFIED:20251125T190117Z
UID:1799-1764288000-1764460799@okv-lv12.de
SUMMARY:Landesverbands-Tischprämierung fällt aus!
DESCRIPTION:
URL:https://okv-lv12.de/event/landesverbands-tischpraemierung/
LOCATION:Dorfgemeinschaftshaus Willingshausen / Zalla\, Valersgarten 10\, Willingshausen / Zalla\, Hessen\, 34628\, Germany
CATEGORIES:Termine
END:VEVENT
END:VCALENDAR